BEGIN:VCALENDAR
VERSION:2.0
PRODID:-//Talakto District GAC - ECPv6.15.20//NONSGML v1.0//EN
CALSCALE:GREGORIAN
METHOD:PUBLISH
X-WR-CALNAME:Talakto District GAC
X-ORIGINAL-URL:https://talakto.org
X-WR-CALDESC:Events for Talakto District GAC
REFRESH-INTERVAL;VALUE=DURATION:PT1H
X-Robots-Tag:noindex
X-PUBLISHED-TTL:PT1H
BEGIN:VTIMEZONE
TZID:America/Chicago
BEGIN:DAYLIGHT
TZOFFSETFROM:-0600
TZOFFSETTO:-0500
TZNAME:CDT
DTSTART:20240310T080000
END:DAYLIGHT
BEGIN:STANDARD
TZOFFSETFROM:-0500
TZOFFSETTO:-0600
TZNAME:CST
DTSTART:20241103T070000
END:STANDARD
BEGIN:DAYLIGHT
TZOFFSETFROM:-0600
TZOFFSETTO:-0500
TZNAME:CDT
DTSTART:20250309T080000
END:DAYLIGHT
BEGIN:STANDARD
TZOFFSETFROM:-0500
TZOFFSETTO:-0600
TZNAME:CST
DTSTART:20251102T070000
END:STANDARD
BEGIN:DAYLIGHT
TZOFFSETFROM:-0600
TZOFFSETTO:-0500
TZNAME:CDT
DTSTART:20260308T080000
END:DAYLIGHT
BEGIN:STANDARD
TZOFFSETFROM:-0500
TZOFFSETTO:-0600
TZNAME:CST
DTSTART:20261101T070000
END:STANDARD
END:VTIMEZONE
BEGIN:VEVENT
DTSTART;VALUE=DATE:20250301
DTEND;VALUE=DATE:20250302
DTSTAMP:20260420T230019
CREATED:20240515T173629Z
LAST-MODIFIED:20240515T173652Z
UID:1419-1740787200-1740873599@talakto.org
SUMMARY:University of Scouting & Merit Badge College
DESCRIPTION:
URL:https://talakto.org/index.php/event/university-of-scouting-2/
CATEGORIES:Cub Scouts,Scouts BSA,Training
END:VEVENT
BEGIN:VEVENT
DTSTART;VALUE=DATE:20250312
DTEND;VALUE=DATE:20250313
DTSTAMP:20260420T230019
CREATED:20250215T075838Z
LAST-MODIFIED:20250215T075838Z
UID:1588-1741737600-1741823999@talakto.org
SUMMARY:Angler Educator Event Day 1
DESCRIPTION:Angler Educator Event
URL:https://talakto.org/index.php/event/angler-educator-event-day-1/
CATEGORIES:Scouts BSA,Training
END:VEVENT
BEGIN:VEVENT
DTSTART;VALUE=DATE:20250319
DTEND;VALUE=DATE:20250320
DTSTAMP:20260420T230019
CREATED:20250215T075930Z
LAST-MODIFIED:20250215T075930Z
UID:1589-1742342400-1742428799@talakto.org
SUMMARY:Angler Educator Event Day 2
DESCRIPTION:Angler Educator Event
URL:https://talakto.org/index.php/event/angler-educator-event-day-2/
CATEGORIES:Scouts BSA,Training
END:VEVENT
BEGIN:VEVENT
DTSTART;VALUE=DATE:20250321
DTEND;VALUE=DATE:20250324
DTSTAMP:20260420T230019
CREATED:20240515T173243Z
LAST-MODIFIED:20240515T173243Z
UID:1414-1742515200-1742774399@talakto.org
SUMMARY:14-125 Wood Badge Weekend 1 of 2
DESCRIPTION:
URL:https://talakto.org/index.php/event/14-125-wood-badge-weekend-1-of-2/
LOCATION:Camp Comer\, 16490 Co Rd 89\, Mentone\, AL\, 35984\, United States
CATEGORIES:Training
ORGANIZER;CN="Greater Alabama Council%2C Scouting America":MAILTO:mark.humphrey@scouting.org
END:VEVENT
BEGIN:VEVENT
DTSTART;VALUE=DATE:20250328
DTEND;VALUE=DATE:20250330
DTSTAMP:20260420T230019
CREATED:20240515T212932Z
LAST-MODIFIED:20250104T032809Z
UID:1446-1743120000-1743292799@talakto.org
SUMMARY:Spring Talakto BALOO/IOLS Overnight Training @ Camporee
DESCRIPTION:
URL:https://talakto.org/index.php/event/spring-talakto-baloo-iols-overnight-training-camporee/
LOCATION:TBA\, Huntsville\, AL\, 35801\, United States
CATEGORIES:Training
END:VEVENT
END:VCALENDAR