BEGIN:VCALENDAR
VERSION:2.0
PRODID:-//Talakto District GAC - ECPv6.15.20//NONSGML v1.0//EN
CALSCALE:GREGORIAN
METHOD:PUBLISH
X-WR-CALNAME:Talakto District GAC
X-ORIGINAL-URL:https://talakto.org
X-WR-CALDESC:Events for Talakto District GAC
REFRESH-INTERVAL;VALUE=DURATION:PT1H
X-Robots-Tag:noindex
X-PUBLISHED-TTL:PT1H
BEGIN:VTIMEZONE
TZID:America/Chicago
BEGIN:DAYLIGHT
TZOFFSETFROM:-0600
TZOFFSETTO:-0500
TZNAME:CDT
DTSTART:20230312T080000
END:DAYLIGHT
BEGIN:STANDARD
TZOFFSETFROM:-0500
TZOFFSETTO:-0600
TZNAME:CST
DTSTART:20231105T070000
END:STANDARD
BEGIN:DAYLIGHT
TZOFFSETFROM:-0600
TZOFFSETTO:-0500
TZNAME:CDT
DTSTART:20240310T080000
END:DAYLIGHT
BEGIN:STANDARD
TZOFFSETFROM:-0500
TZOFFSETTO:-0600
TZNAME:CST
DTSTART:20241103T070000
END:STANDARD
BEGIN:DAYLIGHT
TZOFFSETFROM:-0600
TZOFFSETTO:-0500
TZNAME:CDT
DTSTART:20250309T080000
END:DAYLIGHT
BEGIN:STANDARD
TZOFFSETFROM:-0500
TZOFFSETTO:-0600
TZNAME:CST
DTSTART:20251102T070000
END:STANDARD
END:VTIMEZONE
BEGIN:VEVENT
DTSTART;TZID=America/Chicago:20241102T110000
DTEND;TZID=America/Chicago:20241102T140000
DTSTAMP:20260421T150423
CREATED:20240515T211905Z
LAST-MODIFIED:20240515T211905Z
UID:1439-1730545200-1730556000@talakto.org
SUMMARY:Drop Off Scouting for Food at Scout Office
DESCRIPTION:
URL:https://talakto.org/index.php/event/drop-off-scouting-for-food-at-scout-office/
LOCATION:Council Service Center – Huntsville\, 2211 Drake Avenue SW\, Huntsville\, AL\, 35805\, United States
CATEGORIES:Announcements - ATWTD
ORGANIZER;CN="Greater Alabama Council%2C Scouting America":MAILTO:mark.humphrey@scouting.org
END:VEVENT
END:VCALENDAR