BEGIN:VCALENDAR
VERSION:2.0
PRODID:-//Talakto District GAC - ECPv6.15.20//NONSGML v1.0//EN
CALSCALE:GREGORIAN
METHOD:PUBLISH
X-WR-CALNAME:Talakto District GAC
X-ORIGINAL-URL:https://talakto.org
X-WR-CALDESC:Events for Talakto District GAC
REFRESH-INTERVAL;VALUE=DURATION:PT1H
X-Robots-Tag:noindex
X-PUBLISHED-TTL:PT1H
BEGIN:VTIMEZONE
TZID:America/Chicago
BEGIN:DAYLIGHT
TZOFFSETFROM:-0600
TZOFFSETTO:-0500
TZNAME:CDT
DTSTART:20250309T080000
END:DAYLIGHT
BEGIN:STANDARD
TZOFFSETFROM:-0500
TZOFFSETTO:-0600
TZNAME:CST
DTSTART:20251102T070000
END:STANDARD
BEGIN:DAYLIGHT
TZOFFSETFROM:-0600
TZOFFSETTO:-0500
TZNAME:CDT
DTSTART:20260308T080000
END:DAYLIGHT
BEGIN:STANDARD
TZOFFSETFROM:-0500
TZOFFSETTO:-0600
TZNAME:CST
DTSTART:20261101T070000
END:STANDARD
BEGIN:DAYLIGHT
TZOFFSETFROM:-0600
TZOFFSETTO:-0500
TZNAME:CDT
DTSTART:20270314T080000
END:DAYLIGHT
BEGIN:STANDARD
TZOFFSETFROM:-0500
TZOFFSETTO:-0600
TZNAME:CST
DTSTART:20271107T070000
END:STANDARD
END:VTIMEZONE
BEGIN:VEVENT
DTSTART;VALUE=DATE:20260608
DTEND;VALUE=DATE:20260613
DTSTAMP:20260423T034917
CREATED:20250519T000522Z
LAST-MODIFIED:20250519T210648Z
UID:1660-1780876800-1781308799@talakto.org
SUMMARY:2026 Cub Scout Day Camp (Arrowhead)
DESCRIPTION:Chock-full of adventures\, attend Day Camp! BB guns & Archery\, STEM & Scout Crafts\, Field Sports\, Nature hikes and much more! Scouts will complete program adventures and work on advancement! \n  \nRegistration fees: $75
URL:https://talakto.org/index.php/event/cub-scout-day-camp-arrowhead/
LOCATION:AL
CATEGORIES:Cub Scouts
ORGANIZER;CN="Greater Alabama Council%2C Scouting America":MAILTO:mark.humphrey@scouting.org
END:VEVENT
BEGIN:VEVENT
DTSTART;VALUE=DATE:20260608
DTEND;VALUE=DATE:20260613
DTSTAMP:20260423T034917
CREATED:20250519T000726Z
LAST-MODIFIED:20250519T210708Z
UID:1661-1780876800-1781308799@talakto.org
SUMMARY:2026 Cub Scout Day Camp (Oak Mountain)
DESCRIPTION:Chock-full of adventures\, attend Day Camp! BB guns & Archery\, STEM & Scout Crafts\, Field Sports\, Nature hikes and much more! Scouts will complete program adventures and work on advancement! \n  \nRegistration fees: $125 Regular / $95 Early
URL:https://talakto.org/index.php/event/cub-scout-day-camp-oak-mountain/
LOCATION:AL
CATEGORIES:Cub Scouts
ORGANIZER;CN="Greater Alabama Council%2C Scouting America":MAILTO:mark.humphrey@scouting.org
END:VEVENT
END:VCALENDAR