BEGIN:VCALENDAR
VERSION:2.0
PRODID:-//Talakto District GAC - ECPv6.15.20//NONSGML v1.0//EN
CALSCALE:GREGORIAN
METHOD:PUBLISH
X-ORIGINAL-URL:https://talakto.org
X-WR-CALDESC:Events for Talakto District GAC
REFRESH-INTERVAL;VALUE=DURATION:PT1H
X-Robots-Tag:noindex
X-PUBLISHED-TTL:PT1H
BEGIN:VTIMEZONE
TZID:America/Chicago
BEGIN:DAYLIGHT
TZOFFSETFROM:-0600
TZOFFSETTO:-0500
TZNAME:CDT
DTSTART:20240310T080000
END:DAYLIGHT
BEGIN:STANDARD
TZOFFSETFROM:-0500
TZOFFSETTO:-0600
TZNAME:CST
DTSTART:20241103T070000
END:STANDARD
BEGIN:DAYLIGHT
TZOFFSETFROM:-0600
TZOFFSETTO:-0500
TZNAME:CDT
DTSTART:20250309T080000
END:DAYLIGHT
BEGIN:STANDARD
TZOFFSETFROM:-0500
TZOFFSETTO:-0600
TZNAME:CST
DTSTART:20251102T070000
END:STANDARD
BEGIN:DAYLIGHT
TZOFFSETFROM:-0600
TZOFFSETTO:-0500
TZNAME:CDT
DTSTART:20260308T080000
END:DAYLIGHT
BEGIN:STANDARD
TZOFFSETFROM:-0500
TZOFFSETTO:-0600
TZNAME:CST
DTSTART:20261101T070000
END:STANDARD
END:VTIMEZONE
BEGIN:VEVENT
DTSTART;VALUE=DATE:20250118
DTEND;VALUE=DATE:20250121
DTSTAMP:20260420T195143
CREATED:20240515T173426Z
LAST-MODIFIED:20240515T173426Z
UID:1416-1737158400-1737417599@talakto.org
SUMMARY:Winter NYLT Weekend 1 of 2
DESCRIPTION:
URL:https://talakto.org/index.php/event/winter-nylt-weekend-1-of-2/
LOCATION:AL
CATEGORIES:Scouts BSA,Training
END:VEVENT
BEGIN:VEVENT
DTSTART;TZID=America/Chicago:20250118T100000
DTEND;TZID=America/Chicago:20250118T140000
DTSTAMP:20260420T195143
CREATED:20241127T074259Z
LAST-MODIFIED:20250115T193323Z
UID:1541-1737194400-1737208800@talakto.org
SUMMARY:Pinewood Derby Build Day
DESCRIPTION:Pinewood Derby Build Day
URL:https://talakto.org/index.php/event/pinewood-derby-build-day-2/
LOCATION:Council Service Center – Huntsville\, 2211 Drake Avenue SW\, Huntsville\, AL\, 35805\, United States
CATEGORIES:Cub Scouts,Scouts BSA
ORGANIZER;CN="Talakto District":MAILTO:doug.malone@scouting.org
END:VEVENT
END:VCALENDAR