BEGIN:VCALENDAR
VERSION:2.0
PRODID:-//Talakto District GAC - ECPv6.15.20//NONSGML v1.0//EN
CALSCALE:GREGORIAN
METHOD:PUBLISH
X-ORIGINAL-URL:https://talakto.org
X-WR-CALDESC:Events for Talakto District GAC
REFRESH-INTERVAL;VALUE=DURATION:PT1H
X-Robots-Tag:noindex
X-PUBLISHED-TTL:PT1H
BEGIN:VTIMEZONE
TZID:America/Chicago
BEGIN:DAYLIGHT
TZOFFSETFROM:-0600
TZOFFSETTO:-0500
TZNAME:CDT
DTSTART:20260308T080000
END:DAYLIGHT
BEGIN:STANDARD
TZOFFSETFROM:-0500
TZOFFSETTO:-0600
TZNAME:CST
DTSTART:20261101T070000
END:STANDARD
BEGIN:DAYLIGHT
TZOFFSETFROM:-0600
TZOFFSETTO:-0500
TZNAME:CDT
DTSTART:20270314T080000
END:DAYLIGHT
BEGIN:STANDARD
TZOFFSETFROM:-0500
TZOFFSETTO:-0600
TZNAME:CST
DTSTART:20271107T070000
END:STANDARD
BEGIN:DAYLIGHT
TZOFFSETFROM:-0600
TZOFFSETTO:-0500
TZNAME:CDT
DTSTART:20280312T080000
END:DAYLIGHT
BEGIN:STANDARD
TZOFFSETFROM:-0500
TZOFFSETTO:-0600
TZNAME:CST
DTSTART:20281105T070000
END:STANDARD
END:VTIMEZONE
BEGIN:VEVENT
DTSTART;VALUE=DATE:20270130
DTEND;VALUE=DATE:20270131
DTSTAMP:20260420T045808
CREATED:20260416T154653Z
LAST-MODIFIED:20260416T154653Z
UID:1858-1801267200-1801353599@talakto.org
SUMMARY:STEM Merit Badge College
DESCRIPTION:This will be a daylong event focusing on STEM Merit Badges and\nother fun activities. \n\nWe need STEM Merit Badge Counselors and volunteers to make this\nfirst STEM Merit Badge College a success. \nPlease contact Mark Humphrey if you are interested in\nbeing part of the inaugural event. \n\nHumphrey.markj@gmail.com or call at (303) 907-7560
URL:https://talakto.org/index.php/event/stem-merit-badge-college/
LOCATION:U.S. Space and Rocket Center\, 1 Tranquility Base\, Huntsville\, AL\, 35805\, United States
CATEGORIES:Scouts BSA,Sea Scouts,STEM Scouts,Venture Scouts
ORGANIZER;CN="Talakto District":MAILTO:doug.malone@scouting.org
END:VEVENT
END:VCALENDAR