BEGIN:VCALENDAR
VERSION:2.0
PRODID:-//Talakto District GAC - ECPv6.15.20//NONSGML v1.0//EN
CALSCALE:GREGORIAN
METHOD:PUBLISH
X-WR-CALNAME:Talakto District GAC
X-ORIGINAL-URL:https://talakto.org
X-WR-CALDESC:Events for Talakto District GAC
REFRESH-INTERVAL;VALUE=DURATION:PT1H
X-Robots-Tag:noindex
X-PUBLISHED-TTL:PT1H
BEGIN:VTIMEZONE
TZID:America/Chicago
BEGIN:DAYLIGHT
TZOFFSETFROM:-0600
TZOFFSETTO:-0500
TZNAME:CDT
DTSTART:20240310T080000
END:DAYLIGHT
BEGIN:STANDARD
TZOFFSETFROM:-0500
TZOFFSETTO:-0600
TZNAME:CST
DTSTART:20241103T070000
END:STANDARD
BEGIN:DAYLIGHT
TZOFFSETFROM:-0600
TZOFFSETTO:-0500
TZNAME:CDT
DTSTART:20250309T080000
END:DAYLIGHT
BEGIN:STANDARD
TZOFFSETFROM:-0500
TZOFFSETTO:-0600
TZNAME:CST
DTSTART:20251102T070000
END:STANDARD
BEGIN:DAYLIGHT
TZOFFSETFROM:-0600
TZOFFSETTO:-0500
TZNAME:CDT
DTSTART:20260308T080000
END:DAYLIGHT
BEGIN:STANDARD
TZOFFSETFROM:-0500
TZOFFSETTO:-0600
TZNAME:CST
DTSTART:20261101T070000
END:STANDARD
BEGIN:DAYLIGHT
TZOFFSETFROM:-0600
TZOFFSETTO:-0500
TZNAME:CDT
DTSTART:20270314T080000
END:DAYLIGHT
BEGIN:STANDARD
TZOFFSETFROM:-0500
TZOFFSETTO:-0600
TZNAME:CST
DTSTART:20271107T070000
END:STANDARD
END:VTIMEZONE
BEGIN:VEVENT
DTSTART;VALUE=DATE:20260226
DTEND;VALUE=DATE:20260227
DTSTAMP:20260422T171123
CREATED:20250731T190036Z
LAST-MODIFIED:20250731T190036Z
UID:1718-1772064000-1772150399@talakto.org
SUMMARY:February Committee / Commissioner Meeting
DESCRIPTION:
URL:https://talakto.org/index.php/event/february-committee-commissioner-meeting/
LOCATION:AL
CATEGORIES:Meeting
ORGANIZER;CN="Talakto District":MAILTO:doug.malone@scouting.org
END:VEVENT
BEGIN:VEVENT
DTSTART;TZID=America/Chicago:20260221T190000
DTEND;TZID=America/Chicago:20260221T220000
DTSTAMP:20260422T171123
CREATED:20251030T162438Z
LAST-MODIFIED:20260120T193136Z
UID:1764-1771700400-1771711200@talakto.org
SUMMARY:2026 Talakto Banquet with Whitney Young Presentation
DESCRIPTION:Banquet Ticket Availability
URL:https://talakto.org/index.php/event/winter-banquet-for-2025/
LOCATION:Asbury Church\, 980 Hughes Rd\, Madison\, Alabama\, 35758\, United States
CATEGORIES:Awards
END:VEVENT
BEGIN:VEVENT
DTSTART;TZID=America/Chicago:20260221T073000
DTEND;TZID=America/Chicago:20260221T150000
DTSTAMP:20260422T171123
CREATED:20251106T212404Z
LAST-MODIFIED:20260116T180627Z
UID:1767-1771659000-1771686000@talakto.org
SUMMARY:2026 GAC Cultural Activities and Merit Badge Day
DESCRIPTION:2026 GAC Cultural ScoutReach Event
URL:https://talakto.org/index.php/event/2026-gac-cultural-activities-and-merit-badge-day/
LOCATION:Elmore Gym @ Alabama A&M\, 4900 Meridian St N\, Huntsville\, AL\, 35762\, United States
CATEGORIES:Scouts BSA,Training
ORGANIZER;CN="Talakto District":MAILTO:doug.malone@scouting.org
END:VEVENT
BEGIN:VEVENT
DTSTART;VALUE=DATE:20260214
DTEND;VALUE=DATE:20260217
DTSTAMP:20260422T171123
CREATED:20250519T025058Z
LAST-MODIFIED:20250519T025135Z
UID:1672-1771027200-1771286399@talakto.org
SUMMARY:Winter NYLT Weekend 2
DESCRIPTION:Attention all YOUTH! NYLT is an inspiring six-day program\, designed to provide youth with communication\, planning\, interpersonal skills\, and experiences that they can use in their home units and in other life situations demanding leadership of themselves or others. Participants will be engaged in an outdoors leadership training experience led by their own Scouts BSA peers. This is a challenging hands-on leadership training program for Scouts ages 13 and older of at least First-Class Rank; or registered Venturers or Sea Scouts. This is a top-tier leadership course that ALL Scouts should attend!
URL:https://talakto.org/index.php/event/winter-nylt-weekend-2/
LOCATION:Camp Comer\, 16490 Co Rd 89\, Mentone\, AL\, 35984\, United States
CATEGORIES:Scouts BSA,Sea Scouts,Training
ORGANIZER;CN="Greater Alabama Council%2C Scouting America":MAILTO:mark.humphrey@scouting.org
END:VEVENT
BEGIN:VEVENT
DTSTART;VALUE=DATE:20260205
DTEND;VALUE=DATE:20260206
DTSTAMP:20260422T171123
CREATED:20250731T185952Z
LAST-MODIFIED:20250731T185952Z
UID:1717-1770249600-1770335999@talakto.org
SUMMARY:February Roundtable / OA Chapter Meeting
DESCRIPTION:
URL:https://talakto.org/index.php/event/february-roundtable-oa-chapter-meeting/
LOCATION:AL
CATEGORIES:Meeting
ORGANIZER;CN="Talakto District":MAILTO:doug.malone@scouting.org
END:VEVENT
BEGIN:VEVENT
DTSTART;TZID=America/Chicago:20260131T100000
DTEND;TZID=America/Chicago:20260131T160000
DTSTAMP:20260422T171123
CREATED:20260116T205113Z
LAST-MODIFIED:20260116T205113Z
UID:1792-1769853600-1769875200@talakto.org
SUMMARY:Pinewood Derby Workshop Day
DESCRIPTION:Point of Contact: Darryl McGuire\nEmail: darryl.mcguire@gmail.com
URL:https://talakto.org/index.php/event/pinewood-derby-workshop-day/
LOCATION:Council Service Center – Huntsville\, 2211 Drake Avenue SW\, Huntsville\, AL\, 35805\, United States
END:VEVENT
BEGIN:VEVENT
DTSTART;VALUE=DATE:20260129
DTEND;VALUE=DATE:20260130
DTSTAMP:20260422T171123
CREATED:20250731T185909Z
LAST-MODIFIED:20260105T205559Z
UID:1716-1769644800-1769731199@talakto.org
SUMMARY:January Committee Meeting
DESCRIPTION:
URL:https://talakto.org/index.php/event/january-committee-meeting/
LOCATION:AL
CATEGORIES:Meeting
ORGANIZER;CN="Talakto District":MAILTO:doug.malone@scouting.org
END:VEVENT
BEGIN:VEVENT
DTSTART;VALUE=DATE:20260117
DTEND;VALUE=DATE:20260120
DTSTAMP:20260422T171123
CREATED:20250519T024928Z
LAST-MODIFIED:20250519T024928Z
UID:1671-1768608000-1768867199@talakto.org
SUMMARY:Winter NYLT Weekend 1
DESCRIPTION:Attention all YOUTH! NYLT is an inspiring six-day program\, designed to provide youth with communication\, planning\, interpersonal skills\, and experiences that they can use in their home units and in other life situations demanding leadership of themselves or others. Participants will be engaged in an outdoors leadership training experience led by their own Scouts BSA peers. This is a challenging hands-on leadership training program for Scouts ages 13 and older of at least First-Class Rank; or registered Venturers or Sea Scouts. This is a top-tier leadership course that ALL Scouts should attend!
URL:https://talakto.org/index.php/event/winter-nylt-weekend-1/
LOCATION:Camp Comer\, 16490 Co Rd 89\, Mentone\, AL\, 35984\, United States
CATEGORIES:Scouts BSA,Sea Scouts,Training,Venture Scouts
ORGANIZER;CN="Greater Alabama Council%2C Scouting America":MAILTO:mark.humphrey@scouting.org
END:VEVENT
BEGIN:VEVENT
DTSTART;VALUE=DATE:20260108
DTEND;VALUE=DATE:20260109
DTSTAMP:20260422T171123
CREATED:20250731T185849Z
LAST-MODIFIED:20250731T185849Z
UID:1715-1767830400-1767916799@talakto.org
SUMMARY:January Roundtable Commissioner Meeting
DESCRIPTION:
URL:https://talakto.org/index.php/event/january-roundtable-commissioner-meeting/
LOCATION:AL
CATEGORIES:Meeting
ORGANIZER;CN="Talakto District":MAILTO:doug.malone@scouting.org
END:VEVENT
BEGIN:VEVENT
DTSTART;VALUE=DATE:20251212
DTEND;VALUE=DATE:20251215
DTSTAMP:20260422T171123
CREATED:20250519T021429Z
LAST-MODIFIED:20250519T210750Z
UID:1666-1765497600-1765756799@talakto.org
SUMMARY:2025 Joy to the Woods Holiday Campout
DESCRIPTION:This Pack 2-night\, 3-Day camping opportunity offers fun activities including Archery! BB-Guns! Sling-Shots! Campfire program! Holiday crafts! and more! Camping is optional and Scouts and Packs can choose to attend Saturday only
URL:https://talakto.org/index.php/event/1666/
LOCATION:Camp Sequoyah\, 4907 Co Rd 11\, Delta\, AL\, 36258\, United States
CATEGORIES:Cub Scouts
ORGANIZER;CN="Greater Alabama Council%2C Scouting America":MAILTO:mark.humphrey@scouting.org
END:VEVENT
BEGIN:VEVENT
DTSTART;TZID=America/Chicago:20251204T183000
DTEND;TZID=America/Chicago:20251204T235900
DTSTAMP:20260422T171123
CREATED:20250731T185806Z
LAST-MODIFIED:20251106T211735Z
UID:1714-1764873000-1764892740@talakto.org
SUMMARY:December Leaders Potluck
DESCRIPTION:
URL:https://talakto.org/index.php/event/december-roundtable-oa-chapter-meeting/
LOCATION:Gigaparts\, 6123 University Dr\,\, Huntsville\, AL\, 35806\, United States
CATEGORIES:Meeting
ORGANIZER;CN="Talakto District":MAILTO:doug.malone@scouting.org
END:VEVENT
BEGIN:VEVENT
DTSTART;VALUE=DATE:20251113
DTEND;VALUE=DATE:20251114
DTSTAMP:20260422T171123
CREATED:20250731T185659Z
LAST-MODIFIED:20250731T185659Z
UID:1712-1762992000-1763078399@talakto.org
SUMMARY:November Commissioner Meeting
DESCRIPTION:
URL:https://talakto.org/index.php/event/november-commissioner-meeting/
LOCATION:AL
CATEGORIES:Meeting
ORGANIZER;CN="Talakto District":MAILTO:doug.malone@scouting.org
END:VEVENT
BEGIN:VEVENT
DTSTART;VALUE=DATE:20251107
DTEND;VALUE=DATE:20251110
DTSTAMP:20260422T171123
CREATED:20250721T162748Z
LAST-MODIFIED:20250721T162748Z
UID:1695-1762473600-1762732799@talakto.org
SUMMARY:Leave No Trace Course
DESCRIPTION:Leave No Trace Course 2025
URL:https://talakto.org/index.php/event/leave-no-trace-course/
LOCATION:Camp Jackson\, 2867\, Co Rd 24\, Scottsboro\, AL\, 35769\, United States
CATEGORIES:Camping,Training
ORGANIZER;CN="Greater Alabama Council%2C Scouting America":MAILTO:mark.humphrey@scouting.org
END:VEVENT
BEGIN:VEVENT
DTSTART;VALUE=DATE:20251106
DTEND;VALUE=DATE:20251107
DTSTAMP:20260422T171123
CREATED:20250731T185739Z
LAST-MODIFIED:20250731T185739Z
UID:1713-1762387200-1762473599@talakto.org
SUMMARY:November Roundtable & Committee Meeting
DESCRIPTION:
URL:https://talakto.org/index.php/event/november-roundtable-committee-meeting/
LOCATION:AL
CATEGORIES:Meeting
ORGANIZER;CN="Talakto District":MAILTO:doug.malone@scouting.org
END:VEVENT
BEGIN:VEVENT
DTSTART;TZID=America/Chicago:20251101T090000
DTEND;TZID=America/Chicago:20251101T120000
DTSTAMP:20260422T171123
CREATED:20250518T055040Z
LAST-MODIFIED:20250518T055040Z
UID:1648-1761987600-1761998400@talakto.org
SUMMARY:Cub Scout Derby (Brahan Spring Park\, Huntsville)
DESCRIPTION:Attention all Cub Scouts and Families! Join us for fishing\, fun\, prizes\, and a patch! Don’t know how to fish? That’s ok! We’ll teach you! Poles\, bait\, and other fishing supplies will be furnished\, or bring your own. Prizes for the Biggest Fish\, Smallest Fish\, & Ugliest Fish! Attend any or all of the dates below! \n  \nCost: $10.00 per Scout\, $5.00 for additional Scouts or siblings.\nEvents start at 9am and end at 12pm.
URL:https://talakto.org/index.php/event/cub-scout-derby-brahan-spring-park-huntsville/
LOCATION:AL
CATEGORIES:Cub Scouts
END:VEVENT
BEGIN:VEVENT
DTSTART;VALUE=DATE:20251030
DTEND;VALUE=DATE:20251031
DTSTAMP:20260422T171123
CREATED:20250731T185531Z
LAST-MODIFIED:20250731T185531Z
UID:1709-1761782400-1761868799@talakto.org
SUMMARY:October Committee & Commissioner Meeting
DESCRIPTION:
URL:https://talakto.org/index.php/event/october-committee-commissioner-meeting/
LOCATION:AL
CATEGORIES:Meeting
ORGANIZER;CN="Talakto District":MAILTO:doug.malone@scouting.org
END:VEVENT
BEGIN:VEVENT
DTSTART;TZID=America/Chicago:20251025T090000
DTEND;TZID=America/Chicago:20251026T090000
DTSTAMP:20260422T171123
CREATED:20250731T191426Z
LAST-MODIFIED:20250731T191426Z
UID:1729-1761382800-1761469200@talakto.org
SUMMARY:Troop 350 AOL Campout
DESCRIPTION:AOL Campout with Troop 350
URL:https://talakto.org/index.php/event/troop-350-aol-campout/
LOCATION:AL
CATEGORIES:Camping,Cub Scouts
END:VEVENT
BEGIN:VEVENT
DTSTART;VALUE=DATE:20251025
DTEND;VALUE=DATE:20251027
DTSTAMP:20260422T171123
CREATED:20250518T060933Z
LAST-MODIFIED:20250518T060933Z
UID:1657-1761350400-1761523199@talakto.org
SUMMARY:Cub Haunted Night 6
DESCRIPTION:Every Halloween ghosts and goblins are on the prowl at our council camps! This exciting overnight campout experience for Cub Scouts is packed with events and activities! Fun for the entire family! \nHaunted Hayrides!\nBB Guns & Archery!\nHaunted Trails!\nCostume Contests!\nHaunted Houses!\nCampfire Programs!\nFace-painting!\nGames & Crafts! \n  \nCost: $70 per Cub and Partner\,\n$90 for 2 Cubs and Partner
URL:https://talakto.org/index.php/event/cub-haunted-night-6/
LOCATION:Camp Comer\, 16490 Co Rd 89\, Mentone\, AL\, 35984\, United States
CATEGORIES:Cub Scouts,Volunteer/Community Building
ORGANIZER;CN="Greater Alabama Council%2C Scouting America":MAILTO:mark.humphrey@scouting.org
END:VEVENT
BEGIN:VEVENT
DTSTART;VALUE=DATE:20251024
DTEND;VALUE=DATE:20251026
DTSTAMP:20260422T171123
CREATED:20250518T060833Z
LAST-MODIFIED:20250518T060833Z
UID:1656-1761264000-1761436799@talakto.org
SUMMARY:Cub Haunted Night 5 (Camp Comer)
DESCRIPTION:Every Halloween ghosts and goblins are on the prowl at our council camps! This exciting overnight campout experience for Cub Scouts is packed with events and activities! Fun for the entire family! \nHaunted Hayrides!\nBB Guns & Archery!\nHaunted Trails!\nCostume Contests!\nHaunted Houses!\nCampfire Programs!\nFace-painting!\nGames & Crafts! \n  \nCost: $70 per Cub and Partner\,\n$90 for 2 Cubs and Partner
URL:https://talakto.org/index.php/event/cub-haunted-night-5-camp-comer/
LOCATION:Camp Comer\, 16490 Co Rd 89\, Mentone\, AL\, 35984\, United States
CATEGORIES:Cub Scouts,Volunteer/Community Building
ORGANIZER;CN="Greater Alabama Council%2C Scouting America":MAILTO:mark.humphrey@scouting.org
END:VEVENT
BEGIN:VEVENT
DTSTART;VALUE=DATE:20251024
DTEND;VALUE=DATE:20251026
DTSTAMP:20260422T171123
CREATED:20250518T060741Z
LAST-MODIFIED:20250518T060741Z
UID:1655-1761264000-1761436799@talakto.org
SUMMARY:Cub Haunted Night 5 (Camp Westmoreland)
DESCRIPTION:Every Halloween ghosts and goblins are on the prowl at our council camps! This exciting overnight campout experience for Cub Scouts is packed with events and activities! Fun for the entire family! \nHaunted Hayrides!\nBB Guns & Archery!\nHaunted Trails!\nCostume Contests!\nHaunted Houses!\nCampfire Programs!\nFace-painting!\nGames & Crafts! \n  \nCost: $70 per Cub and Partner\,\n$90 for 2 Cubs and Partner
URL:https://talakto.org/index.php/event/cub-haunted-night-5-camp-westmoreland/
LOCATION:Camp Westmoreland\, 596 Westmoreland Rd\, Florence\, AL\, 35634\, United States
CATEGORIES:Cub Scouts,Volunteer/Community Building
ORGANIZER;CN="Greater Alabama Council%2C Scouting America":MAILTO:mark.humphrey@scouting.org
END:VEVENT
BEGIN:VEVENT
DTSTART;TZID=America/Chicago:20251018T130000
DTEND;TZID=America/Chicago:20251018T200000
DTSTAMP:20260422T171123
CREATED:20251013T180909Z
LAST-MODIFIED:20251013T180909Z
UID:1743-1760792400-1760817600@talakto.org
SUMMARY:Jamboree On The Air 2025 @ Gigaparts
DESCRIPTION:Jamboree on the Air 2025 @ Gigaparts
URL:https://talakto.org/index.php/event/jamboree-on-the-air-2025-gigaparts/
LOCATION:Gigaparts\, 6123 University Dr\,\, Huntsville\, AL\, 35806\, United States
CATEGORIES:Cub Scouts,Scouts BSA,Sea Scouts,STEM Scouts,Venture Scouts
ORGANIZER;CN="Talakto District":MAILTO:doug.malone@scouting.org
END:VEVENT
BEGIN:VEVENT
DTSTART;TZID=America/Chicago:20251018T090000
DTEND;TZID=America/Chicago:20251018T120000
DTSTAMP:20260422T171123
CREATED:20250518T054930Z
LAST-MODIFIED:20250518T054947Z
UID:1647-1760778000-1760788800@talakto.org
SUMMARY:Cub Scout Derby (Aldridge Gardens\, Hoover)
DESCRIPTION:Attention all Cub Scouts and Families! Join us for fishing\, fun\, prizes\, and a patch! Don’t know how to fish? That’s ok! We’ll teach you! Poles\, bait\, and other fishing supplies will be furnished\, or bring your own. Prizes for the Biggest Fish\, Smallest Fish\, & Ugliest Fish! Attend any or all of the dates below! \n  \nCost: $10.00 per Scout\, $5.00 for additional Scouts or siblings.\nEvents start at 9am and end at 12pm.
URL:https://talakto.org/index.php/event/cub-scout-derby-aldridge-gardens-hoover/
LOCATION:AL
CATEGORIES:Cub Scouts
ORGANIZER;CN="Greater Alabama Council%2C Scouting America":MAILTO:mark.humphrey@scouting.org
END:VEVENT
BEGIN:VEVENT
DTSTART;VALUE=DATE:20251018
DTEND;VALUE=DATE:20251020
DTSTAMP:20260422T171123
CREATED:20250518T060553Z
LAST-MODIFIED:20250518T060553Z
UID:1654-1760745600-1760918399@talakto.org
SUMMARY:Cub Haunted Night 4
DESCRIPTION:Every Halloween ghosts and goblins are on the prowl at our council camps! This exciting overnight campout experience for Cub Scouts is packed with events and activities! Fun for the entire family! \nHaunted Hayrides!\nBB Guns & Archery!\nHaunted Trails!\nCostume Contests!\nHaunted Houses!\nCampfire Programs!\nFace-painting!\nGames & Crafts! \n  \nCost: $70 per Cub and Partner\,\n$90 for 2 Cubs and Partner
URL:https://talakto.org/index.php/event/cub-haunted-night-4/
LOCATION:Camp Comer\, 16490 Co Rd 89\, Mentone\, AL\, 35984\, United States
CATEGORIES:Cub Scouts,Volunteer/Community Building
ORGANIZER;CN="Greater Alabama Council%2C Scouting America":MAILTO:mark.humphrey@scouting.org
END:VEVENT
BEGIN:VEVENT
DTSTART;VALUE=DATE:20251017
DTEND;VALUE=DATE:20251019
DTSTAMP:20260422T171123
CREATED:20250518T060420Z
LAST-MODIFIED:20250518T060420Z
UID:1653-1760659200-1760831999@talakto.org
SUMMARY:Cub Haunted Night 3
DESCRIPTION:Every Halloween ghosts and goblins are on the prowl at our council camps! This exciting overnight campout experience for Cub Scouts is packed with events and activities! Fun for the entire family! \nHaunted Hayrides!\nBB Guns & Archery!\nHaunted Trails!\nCostume Contests!\nHaunted Houses!\nCampfire Programs!\nFace-painting!\nGames & Crafts! \n  \nCost: $70 per Cub and Partner\,\n$90 for 2 Cubs and Partner
URL:https://talakto.org/index.php/event/cub-haunted-night-3/
LOCATION:Camp Comer\, 16490 Co Rd 89\, Mentone\, AL\, 35984\, United States
CATEGORIES:Cub Scouts,Volunteer/Community Building
ORGANIZER;CN="Greater Alabama Council%2C Scouting America":MAILTO:mark.humphrey@scouting.org
END:VEVENT
BEGIN:VEVENT
DTSTART;VALUE=DATE:20251011
DTEND;VALUE=DATE:20251013
DTSTAMP:20260422T171123
CREATED:20250518T055649Z
LAST-MODIFIED:20250518T060451Z
UID:1650-1760140800-1760313599@talakto.org
SUMMARY:Cub Haunted Night 2
DESCRIPTION:Every Halloween ghosts and goblins are on the prowl at our council camps! This exciting overnight campout experience for Cub Scouts is packed with events and activities! Fun for the entire family! \nHaunted Hayrides!\nBB Guns & Archery!\nHaunted Trails!\nCostume Contests!\nHaunted Houses!\nCampfire Programs!\nFace-painting!\nGames & Crafts! \n  \nCost: $70 per Cub and Partner\,\n$90 for 2 Cubs and Partner
URL:https://talakto.org/index.php/event/cub-haunted-weekend-1-2/
LOCATION:Camp Comer\, 16490 Co Rd 89\, Mentone\, AL\, 35984\, United States
CATEGORIES:Cub Scouts,Volunteer/Community Building
ORGANIZER;CN="Greater Alabama Council%2C Scouting America":MAILTO:mark.humphrey@scouting.org
END:VEVENT
BEGIN:VEVENT
DTSTART;VALUE=DATE:20251010
DTEND;VALUE=DATE:20251012
DTSTAMP:20260422T171123
CREATED:20250518T055357Z
LAST-MODIFIED:20250518T060431Z
UID:1649-1760054400-1760227199@talakto.org
SUMMARY:Cub Haunted Night 1
DESCRIPTION:Every Halloween ghosts and goblins are on the prowl at our council camps! This exciting overnight campout experience for Cub Scouts is packed with events and activities! Fun for the entire family! \nHaunted Hayrides!\nBB Guns & Archery!\nHaunted Trails!\nCostume Contests!\nHaunted Houses!\nCampfire Programs!\nFace-painting!\nGames & Crafts! \n  \nCost: $70 per Cub and Partner\,\n$90 for 2 Cubs and Partner
URL:https://talakto.org/index.php/event/cub-haunted-weekend-1/
LOCATION:Camp Comer\, 16490 Co Rd 89\, Mentone\, AL\, 35984\, United States
CATEGORIES:Cub Scouts,Volunteer/Community Building
ORGANIZER;CN="Greater Alabama Council%2C Scouting America":MAILTO:mark.humphrey@scouting.org
END:VEVENT
BEGIN:VEVENT
DTSTART;TZID=America/Chicago:20251004T090000
DTEND;TZID=America/Chicago:20251004T120000
DTSTAMP:20260422T171123
CREATED:20250518T054818Z
LAST-MODIFIED:20250518T054818Z
UID:1646-1759568400-1759579200@talakto.org
SUMMARY:Cub Scout Derby (Camp Sequoyah)
DESCRIPTION:Attention all Cub Scouts and Families! Join us for fishing\, fun\, prizes\, and a patch! Don’t know how to fish? That’s ok! We’ll teach you! Poles\, bait\, and other fishing supplies will be furnished\, or bring your own. Prizes for the Biggest Fish\, Smallest Fish\, & Ugliest Fish! Attend any or all of the dates below! \n  \nCost: $10.00 per Scout\, $5.00 for additional Scouts or siblings.\nEvents start at 9am and end at 12pm.
URL:https://talakto.org/index.php/event/cub-scout-derby-camp-sequoyah/
LOCATION:AL
CATEGORIES:Cub Scouts
ORGANIZER;CN="Greater Alabama Council%2C Scouting America":MAILTO:mark.humphrey@scouting.org
END:VEVENT
BEGIN:VEVENT
DTSTART;VALUE=DATE:20251002
DTEND;VALUE=DATE:20251003
DTSTAMP:20260422T171123
CREATED:20250731T185443Z
LAST-MODIFIED:20250731T185443Z
UID:1708-1759363200-1759449599@talakto.org
SUMMARY:October Roundtable / OA Chapter Meeting
DESCRIPTION:
URL:https://talakto.org/index.php/event/october-roundtable-oa-chapter-meeting/
LOCATION:AL
CATEGORIES:Meeting
ORGANIZER;CN="Talakto District":MAILTO:doug.malone@scouting.org
END:VEVENT
BEGIN:VEVENT
DTSTART;TZID=America/Chicago:20250927T090000
DTEND;TZID=America/Chicago:20250927T120000
DTSTAMP:20260422T171123
CREATED:20250518T054718Z
LAST-MODIFIED:20250518T054718Z
UID:1645-1758963600-1758974400@talakto.org
SUMMARY:Cub Scout Derby (Sylvania Lake\, Sylvania)
DESCRIPTION:Attention all Cub Scouts and Families! Join us for fishing\, fun\, prizes\, and a patch! Don’t know how to fish? That’s ok! We’ll teach you! Poles\, bait\, and other fishing supplies will be furnished\, or bring your own. Prizes for the Biggest Fish\, Smallest Fish\, & Ugliest Fish! Attend any or all of the dates below! \n  \nCost: $10.00 per Scout\, $5.00 for additional Scouts or siblings.\nEvents start at 9am and end at 12pm.
URL:https://talakto.org/index.php/event/cub-scout-derby-sylvania-lake-sylvania/
LOCATION:AL
CATEGORIES:Cub Scouts
ORGANIZER;CN="Greater Alabama Council%2C Scouting America":MAILTO:mark.humphrey@scouting.org
END:VEVENT
BEGIN:VEVENT
DTSTART;VALUE=DATE:20250925
DTEND;VALUE=DATE:20250926
DTSTAMP:20260422T171123
CREATED:20250731T185334Z
LAST-MODIFIED:20250731T185334Z
UID:1706-1758758400-1758844799@talakto.org
SUMMARY:September Committee & Commissioner Meeting
DESCRIPTION:
URL:https://talakto.org/index.php/event/september-committee-commissioner-meeting/
LOCATION:AL
CATEGORIES:Meeting
END:VEVENT
END:VCALENDAR