BEGIN:VCALENDAR
VERSION:2.0
PRODID:-//Talakto District GAC - ECPv6.15.20//NONSGML v1.0//EN
CALSCALE:GREGORIAN
METHOD:PUBLISH
X-WR-CALNAME:Talakto District GAC
X-ORIGINAL-URL:https://talakto.org
X-WR-CALDESC:Events for Talakto District GAC
REFRESH-INTERVAL;VALUE=DURATION:PT1H
X-Robots-Tag:noindex
X-PUBLISHED-TTL:PT1H
BEGIN:VTIMEZONE
TZID:America/Chicago
BEGIN:DAYLIGHT
TZOFFSETFROM:-0600
TZOFFSETTO:-0500
TZNAME:CDT
DTSTART:20240310T080000
END:DAYLIGHT
BEGIN:STANDARD
TZOFFSETFROM:-0500
TZOFFSETTO:-0600
TZNAME:CST
DTSTART:20241103T070000
END:STANDARD
BEGIN:DAYLIGHT
TZOFFSETFROM:-0600
TZOFFSETTO:-0500
TZNAME:CDT
DTSTART:20250309T080000
END:DAYLIGHT
BEGIN:STANDARD
TZOFFSETFROM:-0500
TZOFFSETTO:-0600
TZNAME:CST
DTSTART:20251102T070000
END:STANDARD
BEGIN:DAYLIGHT
TZOFFSETFROM:-0600
TZOFFSETTO:-0500
TZNAME:CDT
DTSTART:20260308T080000
END:DAYLIGHT
BEGIN:STANDARD
TZOFFSETFROM:-0500
TZOFFSETTO:-0600
TZNAME:CST
DTSTART:20261101T070000
END:STANDARD
BEGIN:DAYLIGHT
TZOFFSETFROM:-0600
TZOFFSETTO:-0500
TZNAME:CDT
DTSTART:20270314T080000
END:DAYLIGHT
BEGIN:STANDARD
TZOFFSETFROM:-0500
TZOFFSETTO:-0600
TZNAME:CST
DTSTART:20271107T070000
END:STANDARD
END:VTIMEZONE
BEGIN:VEVENT
DTSTART;VALUE=DATE:20260625
DTEND;VALUE=DATE:20260626
DTSTAMP:20260422T171122
CREATED:20250731T190554Z
LAST-MODIFIED:20250731T190554Z
UID:1726-1782345600-1782431999@talakto.org
SUMMARY:June Committee & Commissioner Meeting
DESCRIPTION:
URL:https://talakto.org/index.php/event/june-committee-commissioner-meeting/
LOCATION:AL
CATEGORIES:Meeting
ORGANIZER;CN="Talakto District":MAILTO:doug.malone@scouting.org
END:VEVENT
BEGIN:VEVENT
DTSTART;VALUE=DATE:20260614
DTEND;VALUE=DATE:20260621
DTSTAMP:20260422T171122
CREATED:20250518T054037Z
LAST-MODIFIED:20250518T054037Z
UID:1639-1781395200-1781999999@talakto.org
SUMMARY:Week 2 at Summer Camps
DESCRIPTION:
URL:https://talakto.org/index.php/event/week-2-at-summer-camps/
LOCATION:Camp Comer\, 16490 Co Rd 89\, Mentone\, AL\, 35984\, United States
CATEGORIES:Camping
ORGANIZER;CN="Greater Alabama Council%2C Scouting America":MAILTO:mark.humphrey@scouting.org
END:VEVENT
BEGIN:VEVENT
DTSTART;VALUE=DATE:20260608
DTEND;VALUE=DATE:20260613
DTSTAMP:20260422T171122
CREATED:20250519T000726Z
LAST-MODIFIED:20250519T210708Z
UID:1661-1780876800-1781308799@talakto.org
SUMMARY:2026 Cub Scout Day Camp (Oak Mountain)
DESCRIPTION:Chock-full of adventures\, attend Day Camp! BB guns & Archery\, STEM & Scout Crafts\, Field Sports\, Nature hikes and much more! Scouts will complete program adventures and work on advancement! \n  \nRegistration fees: $125 Regular / $95 Early
URL:https://talakto.org/index.php/event/cub-scout-day-camp-oak-mountain/
LOCATION:AL
CATEGORIES:Cub Scouts
ORGANIZER;CN="Greater Alabama Council%2C Scouting America":MAILTO:mark.humphrey@scouting.org
END:VEVENT
BEGIN:VEVENT
DTSTART;VALUE=DATE:20260608
DTEND;VALUE=DATE:20260613
DTSTAMP:20260422T171122
CREATED:20250519T000522Z
LAST-MODIFIED:20250519T210648Z
UID:1660-1780876800-1781308799@talakto.org
SUMMARY:2026 Cub Scout Day Camp (Arrowhead)
DESCRIPTION:Chock-full of adventures\, attend Day Camp! BB guns & Archery\, STEM & Scout Crafts\, Field Sports\, Nature hikes and much more! Scouts will complete program adventures and work on advancement! \n  \nRegistration fees: $75
URL:https://talakto.org/index.php/event/cub-scout-day-camp-arrowhead/
LOCATION:AL
CATEGORIES:Cub Scouts
ORGANIZER;CN="Greater Alabama Council%2C Scouting America":MAILTO:mark.humphrey@scouting.org
END:VEVENT
BEGIN:VEVENT
DTSTART;VALUE=DATE:20260607
DTEND;VALUE=DATE:20260614
DTSTAMP:20260422T171122
CREATED:20250518T053919Z
LAST-MODIFIED:20250518T053919Z
UID:1638-1780790400-1781395199@talakto.org
SUMMARY:Week 1 at Summer Camps
DESCRIPTION:
URL:https://talakto.org/index.php/event/week-1-at-summer-camps/
LOCATION:Camp Comer\, 16490 Co Rd 89\, Mentone\, AL\, 35984\, United States
CATEGORIES:Camping
ORGANIZER;CN="Greater Alabama Council%2C Scouting America":MAILTO:mark.humphrey@scouting.org
END:VEVENT
BEGIN:VEVENT
DTSTART;TZID=America/Chicago:20260604T080000
DTEND;TZID=America/Chicago:20260604T170000
DTSTAMP:20260422T171122
CREATED:20250731T190529Z
LAST-MODIFIED:20250731T190529Z
UID:1725-1780560000-1780592400@talakto.org
SUMMARY:June Roundtable
DESCRIPTION:
URL:https://talakto.org/index.php/event/june-roundtable/
LOCATION:AL
CATEGORIES:Meeting
ORGANIZER;CN="Talakto District":MAILTO:doug.malone@scouting.org
END:VEVENT
BEGIN:VEVENT
DTSTART;VALUE=DATE:20260604
DTEND;VALUE=DATE:20260607
DTSTAMP:20260422T171122
CREATED:20250519T000425Z
LAST-MODIFIED:20250519T210632Z
UID:1659-1780531200-1780790399@talakto.org
SUMMARY:2026 Cub Scout Day Camp (Mulberry)
DESCRIPTION:Chock-full of adventures\, attend Day Camp! BB guns & Archery\, STEM & Scout Crafts\, Field Sports\, Nature hikes and much more! Scouts will complete program adventures and work on advancement! \n  \nRegistration fees: $40
URL:https://talakto.org/index.php/event/cub-scout-day-camp-mulberry/
LOCATION:AL
CATEGORIES:Cub Scouts
ORGANIZER;CN="Greater Alabama Council%2C Scouting America":MAILTO:mark.humphrey@scouting.org
END:VEVENT
BEGIN:VEVENT
DTSTART;VALUE=DATE:20260601
DTEND;VALUE=DATE:20260606
DTSTAMP:20260422T171122
CREATED:20250519T000906Z
LAST-MODIFIED:20260412T182042Z
UID:1662-1780272000-1780703999@talakto.org
SUMMARY:2026 Cub Scout Day Camp (Huntsville)
DESCRIPTION:Chock-full of adventures\, attend Day Camp! BB guns & Archery\, STEM & Scout Crafts\, Field Sports\, Nature hikes and much more! Scouts will complete program adventures and work on advancement! \n  \nRegistration fees: $125 Regular / $95 Early
URL:https://talakto.org/index.php/event/cub-scout-day-camp-huntsville/
LOCATION:AL
CATEGORIES:Cub Scouts
ORGANIZER;CN="Greater Alabama Council%2C Scouting America":MAILTO:mark.humphrey@scouting.org
END:VEVENT
BEGIN:VEVENT
DTSTART;VALUE=DATE:20260601
DTEND;VALUE=DATE:20260606
DTSTAMP:20260422T171122
CREATED:20250519T000301Z
LAST-MODIFIED:20260309T174335Z
UID:1658-1780272000-1780703999@talakto.org
SUMMARY:2026 Cub Scout Day Camp (Westmoreland)
DESCRIPTION:Chock-full of adventures\, attend Day Camp! BB guns & Archery\, STEM & Scout Crafts\, Field Sports\, Nature hikes and much more! Scouts will complete program adventures and work on advancement! \n  \nCub Scout Day Camp Registration Open!
URL:https://talakto.org/index.php/event/cub-scout-day-camp-westmoreland/
LOCATION:NSS Park\, 6001 Pulaski Pike NW\, Huntsville\, Alabama\, 35810\, United States
CATEGORIES:Cub Scouts
ORGANIZER;CN="Greater Alabama Council%2C Scouting America":MAILTO:mark.humphrey@scouting.org
END:VEVENT
BEGIN:VEVENT
DTSTART;VALUE=DATE:20260528
DTEND;VALUE=DATE:20260529
DTSTAMP:20260422T171122
CREATED:20250731T190355Z
LAST-MODIFIED:20250731T190355Z
UID:1723-1779926400-1780012799@talakto.org
SUMMARY:May Committee / Commissioner Meeting
DESCRIPTION:
URL:https://talakto.org/index.php/event/may-committee-commissioner-meeting/
LOCATION:AL
CATEGORIES:Meeting
ORGANIZER;CN="Talakto District":MAILTO:doug.malone@scouting.org
END:VEVENT
BEGIN:VEVENT
DTSTART;TZID=America/Chicago:20260522T171500
DTEND;TZID=America/Chicago:20260522T230000
DTSTAMP:20260422T171122
CREATED:20260309T174829Z
LAST-MODIFIED:20260309T175123Z
UID:1832-1779470100-1779490800@talakto.org
SUMMARY:Scout Night 2026 At Trash Panda Stadium
DESCRIPTION:Scout Night At The Trash Panda Stadium
URL:https://talakto.org/index.php/event/scout-night-2026-at-trash-panda-stadium/
LOCATION:Trash Panda Stadium\, 500 Trash Panda Wy\, Madison\, AL\, 35758\, United States
CATEGORIES:Cub Scouts,Scouts BSA,Sea Scouts,STEM Scouts,Venture Scouts
ORGANIZER;CN="Trash Pandas":MAILTO:djames@trashpandasbaseball.com
END:VEVENT
BEGIN:VEVENT
DTSTART;VALUE=DATE:20260507
DTEND;VALUE=DATE:20260508
DTSTAMP:20260422T171122
CREATED:20250731T190433Z
LAST-MODIFIED:20250731T190433Z
UID:1724-1778112000-1778198399@talakto.org
SUMMARY:May Roundtable / OA Chapter Meeting
DESCRIPTION:
URL:https://talakto.org/index.php/event/may-roundtable-oa-chapter-meeting/
LOCATION:AL
CATEGORIES:Meeting
ORGANIZER;CN="Talakto District":MAILTO:doug.malone@scouting.org
END:VEVENT
BEGIN:VEVENT
DTSTART;VALUE=DATE:20260501
DTEND;VALUE=DATE:20260504
DTSTAMP:20260422T171122
CREATED:20250519T001613Z
LAST-MODIFIED:20250519T001613Z
UID:1664-1777593600-1777852799@talakto.org
SUMMARY:Cub Adventure Weekend
DESCRIPTION:Calling all Cub Scouts! Get ready for a weekend of fun at Camp Comer! As an intrepid adventurer you will test your skills on daring explorations\, activities\, shooting sports\, competitions\, and more! Exciting activities for the entire family! Are you ready for adventure? \n  \nCost: $70 per Cub and Partner\n$90 for 2 Cubs and Partner
URL:https://talakto.org/index.php/event/cub-adventure-weekend/
LOCATION:Camp Comer\, 16490 Co Rd 89\, Mentone\, AL\, 35984\, United States
CATEGORIES:Cub Scouts
ORGANIZER;CN="Greater Alabama Council%2C Scouting America":MAILTO:mark.humphrey@scouting.org
END:VEVENT
BEGIN:VEVENT
DTSTART;VALUE=DATE:20260430
DTEND;VALUE=DATE:20260501
DTSTAMP:20260422T171122
CREATED:20250731T190316Z
LAST-MODIFIED:20250731T190316Z
UID:1722-1777507200-1777593599@talakto.org
SUMMARY:April Committee / Commissioner Meeting
DESCRIPTION:
URL:https://talakto.org/index.php/event/april-committee-commissioner-meeting/
LOCATION:AL
CATEGORIES:Meeting
ORGANIZER;CN="Talakto District":MAILTO:doug.malone@scouting.org
END:VEVENT
BEGIN:VEVENT
DTSTART;VALUE=DATE:20260402
DTEND;VALUE=DATE:20260403
DTSTAMP:20260422T171122
CREATED:20250731T190233Z
LAST-MODIFIED:20250731T190233Z
UID:1721-1775088000-1775174399@talakto.org
SUMMARY:April Roundtable / OA Chapter Meeting
DESCRIPTION:
URL:https://talakto.org/index.php/event/april-roundtable-oa-chapter-meeting/
LOCATION:AL
CATEGORIES:Meeting
ORGANIZER;CN="Talakto District":MAILTO:doug.malone@scouting.org
END:VEVENT
BEGIN:VEVENT
DTSTART;VALUE=DATE:20260327
DTEND;VALUE=DATE:20260330
DTSTAMP:20260422T171122
CREATED:20251214T052958Z
LAST-MODIFIED:20260211T213848Z
UID:1776-1774569600-1774828799@talakto.org
SUMMARY:District Camporee
DESCRIPTION:2026 Camporee Leaders Guide
URL:https://talakto.org/index.php/event/district-camporee/
LOCATION:Camp Comer\, 16490 Co Rd 89\, Mentone\, AL\, 35984\, United States
ORGANIZER;CN="Talakto District":MAILTO:doug.malone@scouting.org
END:VEVENT
BEGIN:VEVENT
DTSTART;VALUE=DATE:20260326
DTEND;VALUE=DATE:20260327
DTSTAMP:20260422T171122
CREATED:20250731T190135Z
LAST-MODIFIED:20250731T190135Z
UID:1719-1774483200-1774569599@talakto.org
SUMMARY:March Committee / Commissioner Meeting
DESCRIPTION:
URL:https://talakto.org/index.php/event/march-committee-commissioner-meeting/
LOCATION:AL
CATEGORIES:Meeting
ORGANIZER;CN="Talakto District":MAILTO:doug.malone@scouting.org
END:VEVENT
BEGIN:VEVENT
DTSTART;TZID=America/Chicago:20260306T080000
DTEND;TZID=America/Chicago:20260306T150000
DTSTAMP:20260422T171122
CREATED:20260306T220021Z
LAST-MODIFIED:20260306T220021Z
UID:1826-1772784000-1772809200@talakto.org
SUMMARY:Cub Scout Pinewood Derby 2026
DESCRIPTION:District Pinewood Derby Info
URL:https://talakto.org/index.php/event/cub-scout-pinewood-derby-2026/
LOCATION:UAH Spragins Hall\, 205 Spragins Hall\, Huntsville\, Alabama\, 35899\, United States
CATEGORIES:Cub Scouts
ORGANIZER;CN="Talakto District":MAILTO:doug.malone@scouting.org
END:VEVENT
BEGIN:VEVENT
DTSTART;VALUE=DATE:20260305
DTEND;VALUE=DATE:20260306
DTSTAMP:20260422T171122
CREATED:20250731T190211Z
LAST-MODIFIED:20250731T190211Z
UID:1720-1772668800-1772755199@talakto.org
SUMMARY:March Roundtable / OA Chapter Meeting
DESCRIPTION:
URL:https://talakto.org/index.php/event/march-roundtable-oa-chapter-meeting/
LOCATION:AL
CATEGORIES:Meeting
ORGANIZER;CN="Talakto District":MAILTO:doug.malone@scouting.org
END:VEVENT
BEGIN:VEVENT
DTSTART;VALUE=DATE:20260228
DTEND;VALUE=DATE:20260301
DTSTAMP:20260422T171122
CREATED:20250519T025526Z
LAST-MODIFIED:20250519T025526Z
UID:1674-1772236800-1772323199@talakto.org
SUMMARY:University of Scouting & Merit Badge College
DESCRIPTION:Attention Adults! Whether you are new to Scouting or a veteran\, the University of Scouting has something for you! This annual one-day supplemental training event offers more than 100 classes that emphasize programs\, skills\, and resources to help you deliver high quality opportunities to your Scouting youth. Come and learn practical skills and gain valuable knowledge in a fun and festive atmosphere. Be the best leader you can be! In conjunction with University of Scouting\, we offer a Merit Badge College. While leaders take training\, your Scouts can take up to two badges led by experienced instructors during the day.
URL:https://talakto.org/index.php/event/university-of-scouting-merit-badge-college/
LOCATION:AL
CATEGORIES:Scouts BSA,Training
ORGANIZER;CN="Greater Alabama Council%2C Scouting America":MAILTO:mark.humphrey@scouting.org
END:VEVENT
BEGIN:VEVENT
DTSTART;VALUE=DATE:20260226
DTEND;VALUE=DATE:20260227
DTSTAMP:20260422T171122
CREATED:20250731T190036Z
LAST-MODIFIED:20250731T190036Z
UID:1718-1772064000-1772150399@talakto.org
SUMMARY:February Committee / Commissioner Meeting
DESCRIPTION:
URL:https://talakto.org/index.php/event/february-committee-commissioner-meeting/
LOCATION:AL
CATEGORIES:Meeting
ORGANIZER;CN="Talakto District":MAILTO:doug.malone@scouting.org
END:VEVENT
BEGIN:VEVENT
DTSTART;TZID=America/Chicago:20260221T190000
DTEND;TZID=America/Chicago:20260221T220000
DTSTAMP:20260422T171122
CREATED:20251030T162438Z
LAST-MODIFIED:20260120T193136Z
UID:1764-1771700400-1771711200@talakto.org
SUMMARY:2026 Talakto Banquet with Whitney Young Presentation
DESCRIPTION:Banquet Ticket Availability
URL:https://talakto.org/index.php/event/winter-banquet-for-2025/
LOCATION:Asbury Church\, 980 Hughes Rd\, Madison\, Alabama\, 35758\, United States
CATEGORIES:Awards
END:VEVENT
BEGIN:VEVENT
DTSTART;TZID=America/Chicago:20260221T073000
DTEND;TZID=America/Chicago:20260221T150000
DTSTAMP:20260422T171122
CREATED:20251106T212404Z
LAST-MODIFIED:20260116T180627Z
UID:1767-1771659000-1771686000@talakto.org
SUMMARY:2026 GAC Cultural Activities and Merit Badge Day
DESCRIPTION:2026 GAC Cultural ScoutReach Event
URL:https://talakto.org/index.php/event/2026-gac-cultural-activities-and-merit-badge-day/
LOCATION:Elmore Gym @ Alabama A&M\, 4900 Meridian St N\, Huntsville\, AL\, 35762\, United States
CATEGORIES:Scouts BSA,Training
ORGANIZER;CN="Talakto District":MAILTO:doug.malone@scouting.org
END:VEVENT
BEGIN:VEVENT
DTSTART;VALUE=DATE:20260214
DTEND;VALUE=DATE:20260217
DTSTAMP:20260422T171122
CREATED:20250519T025058Z
LAST-MODIFIED:20250519T025135Z
UID:1672-1771027200-1771286399@talakto.org
SUMMARY:Winter NYLT Weekend 2
DESCRIPTION:Attention all YOUTH! NYLT is an inspiring six-day program\, designed to provide youth with communication\, planning\, interpersonal skills\, and experiences that they can use in their home units and in other life situations demanding leadership of themselves or others. Participants will be engaged in an outdoors leadership training experience led by their own Scouts BSA peers. This is a challenging hands-on leadership training program for Scouts ages 13 and older of at least First-Class Rank; or registered Venturers or Sea Scouts. This is a top-tier leadership course that ALL Scouts should attend!
URL:https://talakto.org/index.php/event/winter-nylt-weekend-2/
LOCATION:Camp Comer\, 16490 Co Rd 89\, Mentone\, AL\, 35984\, United States
CATEGORIES:Scouts BSA,Sea Scouts,Training
ORGANIZER;CN="Greater Alabama Council%2C Scouting America":MAILTO:mark.humphrey@scouting.org
END:VEVENT
BEGIN:VEVENT
DTSTART;VALUE=DATE:20260205
DTEND;VALUE=DATE:20260206
DTSTAMP:20260422T171122
CREATED:20250731T185952Z
LAST-MODIFIED:20250731T185952Z
UID:1717-1770249600-1770335999@talakto.org
SUMMARY:February Roundtable / OA Chapter Meeting
DESCRIPTION:
URL:https://talakto.org/index.php/event/february-roundtable-oa-chapter-meeting/
LOCATION:AL
CATEGORIES:Meeting
ORGANIZER;CN="Talakto District":MAILTO:doug.malone@scouting.org
END:VEVENT
BEGIN:VEVENT
DTSTART;TZID=America/Chicago:20260131T100000
DTEND;TZID=America/Chicago:20260131T160000
DTSTAMP:20260422T171122
CREATED:20260116T205113Z
LAST-MODIFIED:20260116T205113Z
UID:1792-1769853600-1769875200@talakto.org
SUMMARY:Pinewood Derby Workshop Day
DESCRIPTION:Point of Contact: Darryl McGuire\nEmail: darryl.mcguire@gmail.com
URL:https://talakto.org/index.php/event/pinewood-derby-workshop-day/
LOCATION:Council Service Center – Huntsville\, 2211 Drake Avenue SW\, Huntsville\, AL\, 35805\, United States
END:VEVENT
BEGIN:VEVENT
DTSTART;VALUE=DATE:20260129
DTEND;VALUE=DATE:20260130
DTSTAMP:20260422T171122
CREATED:20250731T185909Z
LAST-MODIFIED:20260105T205559Z
UID:1716-1769644800-1769731199@talakto.org
SUMMARY:January Committee Meeting
DESCRIPTION:
URL:https://talakto.org/index.php/event/january-committee-meeting/
LOCATION:AL
CATEGORIES:Meeting
ORGANIZER;CN="Talakto District":MAILTO:doug.malone@scouting.org
END:VEVENT
BEGIN:VEVENT
DTSTART;VALUE=DATE:20260117
DTEND;VALUE=DATE:20260120
DTSTAMP:20260422T171122
CREATED:20250519T024928Z
LAST-MODIFIED:20250519T024928Z
UID:1671-1768608000-1768867199@talakto.org
SUMMARY:Winter NYLT Weekend 1
DESCRIPTION:Attention all YOUTH! NYLT is an inspiring six-day program\, designed to provide youth with communication\, planning\, interpersonal skills\, and experiences that they can use in their home units and in other life situations demanding leadership of themselves or others. Participants will be engaged in an outdoors leadership training experience led by their own Scouts BSA peers. This is a challenging hands-on leadership training program for Scouts ages 13 and older of at least First-Class Rank; or registered Venturers or Sea Scouts. This is a top-tier leadership course that ALL Scouts should attend!
URL:https://talakto.org/index.php/event/winter-nylt-weekend-1/
LOCATION:Camp Comer\, 16490 Co Rd 89\, Mentone\, AL\, 35984\, United States
CATEGORIES:Scouts BSA,Sea Scouts,Training,Venture Scouts
ORGANIZER;CN="Greater Alabama Council%2C Scouting America":MAILTO:mark.humphrey@scouting.org
END:VEVENT
BEGIN:VEVENT
DTSTART;VALUE=DATE:20260108
DTEND;VALUE=DATE:20260109
DTSTAMP:20260422T171122
CREATED:20250731T185849Z
LAST-MODIFIED:20250731T185849Z
UID:1715-1767830400-1767916799@talakto.org
SUMMARY:January Roundtable Commissioner Meeting
DESCRIPTION:
URL:https://talakto.org/index.php/event/january-roundtable-commissioner-meeting/
LOCATION:AL
CATEGORIES:Meeting
ORGANIZER;CN="Talakto District":MAILTO:doug.malone@scouting.org
END:VEVENT
BEGIN:VEVENT
DTSTART;VALUE=DATE:20251212
DTEND;VALUE=DATE:20251215
DTSTAMP:20260422T171122
CREATED:20250519T021429Z
LAST-MODIFIED:20250519T210750Z
UID:1666-1765497600-1765756799@talakto.org
SUMMARY:2025 Joy to the Woods Holiday Campout
DESCRIPTION:This Pack 2-night\, 3-Day camping opportunity offers fun activities including Archery! BB-Guns! Sling-Shots! Campfire program! Holiday crafts! and more! Camping is optional and Scouts and Packs can choose to attend Saturday only
URL:https://talakto.org/index.php/event/1666/
LOCATION:Camp Sequoyah\, 4907 Co Rd 11\, Delta\, AL\, 36258\, United States
CATEGORIES:Cub Scouts
ORGANIZER;CN="Greater Alabama Council%2C Scouting America":MAILTO:mark.humphrey@scouting.org
END:VEVENT
END:VCALENDAR