BEGIN:VCALENDAR
VERSION:2.0
PRODID:-//Talakto District GAC - ECPv6.15.20//NONSGML v1.0//EN
CALSCALE:GREGORIAN
METHOD:PUBLISH
X-WR-CALNAME:Talakto District GAC
X-ORIGINAL-URL:https://talakto.org
X-WR-CALDESC:Events for Talakto District GAC
REFRESH-INTERVAL;VALUE=DURATION:PT1H
X-Robots-Tag:noindex
X-PUBLISHED-TTL:PT1H
BEGIN:VTIMEZONE
TZID:America/Chicago
BEGIN:DAYLIGHT
TZOFFSETFROM:-0600
TZOFFSETTO:-0500
TZNAME:CDT
DTSTART:20230312T080000
END:DAYLIGHT
BEGIN:STANDARD
TZOFFSETFROM:-0500
TZOFFSETTO:-0600
TZNAME:CST
DTSTART:20231105T070000
END:STANDARD
BEGIN:DAYLIGHT
TZOFFSETFROM:-0600
TZOFFSETTO:-0500
TZNAME:CDT
DTSTART:20240310T080000
END:DAYLIGHT
BEGIN:STANDARD
TZOFFSETFROM:-0500
TZOFFSETTO:-0600
TZNAME:CST
DTSTART:20241103T070000
END:STANDARD
BEGIN:DAYLIGHT
TZOFFSETFROM:-0600
TZOFFSETTO:-0500
TZNAME:CDT
DTSTART:20250309T080000
END:DAYLIGHT
BEGIN:STANDARD
TZOFFSETFROM:-0500
TZOFFSETTO:-0600
TZNAME:CST
DTSTART:20251102T070000
END:STANDARD
BEGIN:DAYLIGHT
TZOFFSETFROM:-0600
TZOFFSETTO:-0500
TZNAME:CDT
DTSTART:20260308T080000
END:DAYLIGHT
BEGIN:STANDARD
TZOFFSETFROM:-0500
TZOFFSETTO:-0600
TZNAME:CST
DTSTART:20261101T070000
END:STANDARD
END:VTIMEZONE
BEGIN:VEVENT
DTSTART;VALUE=DATE:20250208
DTEND;VALUE=DATE:20250209
DTSTAMP:20260423T052247
CREATED:20240515T212533Z
LAST-MODIFIED:20250114T203227Z
UID:1443-1738972800-1739059199@talakto.org
SUMMARY:2025 GAC Cultural Activities and Merit Badge Day
DESCRIPTION:2025 GAC Cultural ScoutReach
URL:https://talakto.org/index.php/event/2025-gac-cultural-activities-and-merit-badge-day/
LOCATION:Alabama A&M University
CATEGORIES:Cub Scouts,Scouts BSA
END:VEVENT
BEGIN:VEVENT
DTSTART;TZID=America/Chicago:20250206T190000
DTEND;TZID=America/Chicago:20250206T203000
DTSTAMP:20260423T052247
CREATED:20240515T210611Z
LAST-MODIFIED:20240515T210611Z
UID:1427-1738868400-1738873800@talakto.org
SUMMARY:February Talakto Roundtable
DESCRIPTION:
URL:https://talakto.org/index.php/event/february-talakto-roundtable/
LOCATION:First United Methodist Church\, 120 Greene Street\, SW\, Huntsville\, AL\, 35801\, United States
CATEGORIES:Meeting
ORGANIZER;CN="Greater Alabama Council%2C Scouting America":MAILTO:mark.humphrey@scouting.org
END:VEVENT
BEGIN:VEVENT
DTSTART;TZID=America/Chicago:20250131T190000
DTEND;TZID=America/Chicago:20250131T220000
DTSTAMP:20260423T052247
CREATED:20250102T000200Z
LAST-MODIFIED:20250102T000200Z
UID:1554-1738350000-1738360800@talakto.org
SUMMARY:2025 Huntsville Havoc Scout Night
DESCRIPTION:2025 Huntsville Havoc Scout Night
URL:https://talakto.org/index.php/event/2025-huntsville-havoc-scout-night/
LOCATION:VBC\, 700 Monroe St SW\, Huntsville\, AL\, 35801\, United States
END:VEVENT
BEGIN:VEVENT
DTSTART;VALUE=DATE:20250125
DTEND;VALUE=DATE:20250126
DTSTAMP:20260423T052247
CREATED:20240515T170836Z
LAST-MODIFIED:20240515T172332Z
UID:1399-1737763200-1737849599@talakto.org
SUMMARY:Big Spin Popcorn Party
DESCRIPTION:
URL:https://talakto.org/index.php/event/big-spin-popcorn-party/
CATEGORIES:Cub Scouts,Fundraising,Scouts BSA
END:VEVENT
BEGIN:VEVENT
DTSTART;TZID=America/Chicago:20250118T130000
DTEND;TZID=America/Chicago:20250118T180000
DTSTAMP:20260423T052247
CREATED:20241126T181913Z
LAST-MODIFIED:20241126T181913Z
UID:1533-1737205200-1737223200@talakto.org
SUMMARY:Flag Retirement Ceremony
DESCRIPTION:There will be a flag retirement ceremony at VFW Post 2702 along with cutting out stars from the larger flags.
URL:https://talakto.org/index.php/event/flag-retirement-ceremony/
LOCATION:VFW 2702\, 2900 N Memorial Pkwy\, Huntsville\, AL\, 35801\, United States
CATEGORIES:Volunteer/Community Building
END:VEVENT
BEGIN:VEVENT
DTSTART;TZID=America/Chicago:20250118T100000
DTEND;TZID=America/Chicago:20250118T140000
DTSTAMP:20260423T052247
CREATED:20241127T074259Z
LAST-MODIFIED:20250115T193323Z
UID:1541-1737194400-1737208800@talakto.org
SUMMARY:Pinewood Derby Build Day
DESCRIPTION:Pinewood Derby Build Day
URL:https://talakto.org/index.php/event/pinewood-derby-build-day-2/
LOCATION:Council Service Center – Huntsville\, 2211 Drake Avenue SW\, Huntsville\, AL\, 35805\, United States
CATEGORIES:Cub Scouts,Scouts BSA
ORGANIZER;CN="Talakto District":MAILTO:doug.malone@scouting.org
END:VEVENT
BEGIN:VEVENT
DTSTART;VALUE=DATE:20250118
DTEND;VALUE=DATE:20250121
DTSTAMP:20260423T052247
CREATED:20240515T173426Z
LAST-MODIFIED:20240515T173426Z
UID:1416-1737158400-1737417599@talakto.org
SUMMARY:Winter NYLT Weekend 1 of 2
DESCRIPTION:
URL:https://talakto.org/index.php/event/winter-nylt-weekend-1-of-2/
CATEGORIES:Scouts BSA,Training
END:VEVENT
BEGIN:VEVENT
DTSTART;TZID=America/Chicago:20250111T180000
DTEND;TZID=America/Chicago:20250111T200000
DTSTAMP:20260423T052247
CREATED:20241105T171612Z
LAST-MODIFIED:20250128T204801Z
UID:1523-1736618400-1736625600@talakto.org
SUMMARY:Talakto Awards Banquet
DESCRIPTION:Starting at Roundtable on Thursday\, 7 November\, tickets for the Talakto Awards Banquet will go on sale.  Dianna O’Dell (Banquet Chair) will have them with her.  The cost will be $20 each\, after January 1st tickets will be $25 each.  Choice will be either pork BBQ\, chicken\, vegetarian and if the person needs gluten free options. \n  \nThis year\, we are not doing just our normal unit leader\, unit awards\, and District Awards of Merit\, but also recognizing the recipients for Whitney M. Young\, Jr. Service Awards and Community Service Awards. As such\, there will be a lot more in attendance this year. \nIf you would like to held provide Woodbadge critter decorations for tables\, please let Dianna know. 256-656-1271 or Dianna_L_ODell@yahoo.com. \n  \nWe need unit committee chairs to get the awards approved and submitted for their respective unit leaders who have earned awards. You can bring them to RT and give to Tom Billig (District Training Chair) to approve before Jim Charlton gets them for processing. Veteran awards applications and unit-specific awards can come direct to Jim Charlton. Remember this is the last year for Journey to Excellence (JTE) awards so turn your JTE forms in asap! \n  \nTalakto Banquet Help Needed!
URL:https://talakto.org/index.php/event/talakto-awards-banquet-2/
LOCATION:Faith Lutheran Church\, 660 Gillespie Rd\, Madison\, 35758\, United States
ORGANIZER;CN="Talakto District":MAILTO:doug.malone@scouting.org
END:VEVENT
BEGIN:VEVENT
DTSTART;VALUE=DATE:20250110
DTEND;VALUE=DATE:20250113
DTSTAMP:20260423T052247
CREATED:20240515T172925Z
LAST-MODIFIED:20240515T172925Z
UID:1411-1736467200-1736726399@talakto.org
SUMMARY:OA Indian Winter
DESCRIPTION:
URL:https://talakto.org/index.php/event/oa-indian-winter/
END:VEVENT
BEGIN:VEVENT
DTSTART;TZID=America/Chicago:20250102T080000
DTEND;TZID=America/Chicago:20250102T170000
DTSTAMP:20260423T052247
CREATED:20240515T210413Z
LAST-MODIFIED:20240515T210413Z
UID:1426-1735804800-1735837200@talakto.org
SUMMARY:January Talakto Roundtable
DESCRIPTION:
URL:https://talakto.org/index.php/event/january-talakto-roundtable/
LOCATION:First United Methodist Church\, 120 Greene Street\, SW\, Huntsville\, AL\, 35801\, United States
CATEGORIES:Meeting
ORGANIZER;CN="Talakto District":MAILTO:doug.malone@scouting.org
END:VEVENT
BEGIN:VEVENT
DTSTART;TZID=America/Chicago:20241216T080000
DTEND;TZID=America/Chicago:20241216T170000
DTSTAMP:20260423T052247
CREATED:20240515T212119Z
LAST-MODIFIED:20240515T212119Z
UID:1441-1734336000-1734368400@talakto.org
SUMMARY:UNIT RECHARTERS DUE
DESCRIPTION:
URL:https://talakto.org/index.php/event/unit-recharters-due/
LOCATION:First United Methodist Church\, 120 Greene Street\, SW\, Huntsville\, AL\, 35801\, United States
CATEGORIES:Announcements - ATWTD
ORGANIZER;CN="Talakto District":MAILTO:doug.malone@scouting.org
END:VEVENT
BEGIN:VEVENT
DTSTART;VALUE=DATE:20241213
DTEND;VALUE=DATE:20241216
DTSTAMP:20260423T052247
CREATED:20240515T172516Z
LAST-MODIFIED:20250519T210756Z
UID:1408-1734048000-1734307199@talakto.org
SUMMARY:2024 Joy to the Woods Holiday Campout
DESCRIPTION:
URL:https://talakto.org/index.php/event/joy-to-the-woods-holiday-campout/
CATEGORIES:Cub Scouts
END:VEVENT
BEGIN:VEVENT
DTSTART;TZID=America/Chicago:20241205T080000
DTEND;TZID=America/Chicago:20241205T170000
DTSTAMP:20260423T052248
CREATED:20240515T210335Z
LAST-MODIFIED:20240515T210335Z
UID:1425-1733385600-1733418000@talakto.org
SUMMARY:December Talakto Roundtable
DESCRIPTION:
URL:https://talakto.org/index.php/event/december-talakto-roundtable/
LOCATION:First United Methodist Church\, 120 Greene Street\, SW\, Huntsville\, AL\, 35801\, United States
CATEGORIES:Meeting
ORGANIZER;CN="Talakto District":MAILTO:doug.malone@scouting.org
END:VEVENT
BEGIN:VEVENT
DTSTART;VALUE=DATE:20241108
DTEND;VALUE=DATE:20241111
DTSTAMP:20260423T052248
CREATED:20240515T172844Z
LAST-MODIFIED:20240515T172844Z
UID:1410-1731024000-1731283199@talakto.org
SUMMARY:OA Fall Fellowship
DESCRIPTION:
URL:https://talakto.org/index.php/event/oa-fall-fellowship/
END:VEVENT
BEGIN:VEVENT
DTSTART;TZID=America/Chicago:20241107T190000
DTEND;TZID=America/Chicago:20241107T203000
DTSTAMP:20260423T052248
CREATED:20240515T210213Z
LAST-MODIFIED:20240515T210213Z
UID:1424-1731006000-1731011400@talakto.org
SUMMARY:November Talakto Roundtable
DESCRIPTION:
URL:https://talakto.org/index.php/event/november-talakto-roundtable/
LOCATION:First United Methodist Church\, 120 Greene Street\, SW\, Huntsville\, AL\, 35801\, United States
ORGANIZER;CN="Greater Alabama Council%2C Scouting America":MAILTO:mark.humphrey@scouting.org
END:VEVENT
BEGIN:VEVENT
DTSTART;TZID=America/Chicago:20241102T110000
DTEND;TZID=America/Chicago:20241102T140000
DTSTAMP:20260423T052248
CREATED:20240515T211905Z
LAST-MODIFIED:20240515T211905Z
UID:1439-1730545200-1730556000@talakto.org
SUMMARY:Drop Off Scouting for Food at Scout Office
DESCRIPTION:
URL:https://talakto.org/index.php/event/drop-off-scouting-for-food-at-scout-office/
LOCATION:Council Service Center – Huntsville\, 2211 Drake Avenue SW\, Huntsville\, AL\, 35805\, United States
CATEGORIES:Announcements - ATWTD
ORGANIZER;CN="Greater Alabama Council%2C Scouting America":MAILTO:mark.humphrey@scouting.org
END:VEVENT
END:VCALENDAR