BEGIN:VCALENDAR
VERSION:2.0
PRODID:-//Talakto District GAC - ECPv6.15.20//NONSGML v1.0//EN
CALSCALE:GREGORIAN
METHOD:PUBLISH
X-ORIGINAL-URL:https://talakto.org
X-WR-CALDESC:Events for Talakto District GAC
REFRESH-INTERVAL;VALUE=DURATION:PT1H
X-Robots-Tag:noindex
X-PUBLISHED-TTL:PT1H
BEGIN:VTIMEZONE
TZID:America/Chicago
BEGIN:DAYLIGHT
TZOFFSETFROM:-0600
TZOFFSETTO:-0500
TZNAME:CDT
DTSTART:20240310T080000
END:DAYLIGHT
BEGIN:STANDARD
TZOFFSETFROM:-0500
TZOFFSETTO:-0600
TZNAME:CST
DTSTART:20241103T070000
END:STANDARD
BEGIN:DAYLIGHT
TZOFFSETFROM:-0600
TZOFFSETTO:-0500
TZNAME:CDT
DTSTART:20250309T080000
END:DAYLIGHT
BEGIN:STANDARD
TZOFFSETFROM:-0500
TZOFFSETTO:-0600
TZNAME:CST
DTSTART:20251102T070000
END:STANDARD
BEGIN:DAYLIGHT
TZOFFSETFROM:-0600
TZOFFSETTO:-0500
TZNAME:CDT
DTSTART:20260308T080000
END:DAYLIGHT
BEGIN:STANDARD
TZOFFSETFROM:-0500
TZOFFSETTO:-0600
TZNAME:CST
DTSTART:20261101T070000
END:STANDARD
END:VTIMEZONE
BEGIN:VEVENT
DTSTART;TZID=America/Chicago:20251101T090000
DTEND;TZID=America/Chicago:20251101T120000
DTSTAMP:20260422T165329
CREATED:20250518T055040Z
LAST-MODIFIED:20250518T055040Z
UID:1648-1761987600-1761998400@talakto.org
SUMMARY:Cub Scout Derby (Brahan Spring Park\, Huntsville)
DESCRIPTION:Attention all Cub Scouts and Families! Join us for fishing\, fun\, prizes\, and a patch! Don’t know how to fish? That’s ok! We’ll teach you! Poles\, bait\, and other fishing supplies will be furnished\, or bring your own. Prizes for the Biggest Fish\, Smallest Fish\, & Ugliest Fish! Attend any or all of the dates below! \n  \nCost: $10.00 per Scout\, $5.00 for additional Scouts or siblings.\nEvents start at 9am and end at 12pm.
URL:https://talakto.org/index.php/event/cub-scout-derby-brahan-spring-park-huntsville/
LOCATION:AL
CATEGORIES:Cub Scouts
END:VEVENT
BEGIN:VEVENT
DTSTART;VALUE=DATE:20251106
DTEND;VALUE=DATE:20251107
DTSTAMP:20260422T165329
CREATED:20250731T185739Z
LAST-MODIFIED:20250731T185739Z
UID:1713-1762387200-1762473599@talakto.org
SUMMARY:November Roundtable & Committee Meeting
DESCRIPTION:
URL:https://talakto.org/index.php/event/november-roundtable-committee-meeting/
LOCATION:AL
CATEGORIES:Meeting
ORGANIZER;CN="Talakto District":MAILTO:doug.malone@scouting.org
END:VEVENT
BEGIN:VEVENT
DTSTART;VALUE=DATE:20251107
DTEND;VALUE=DATE:20251110
DTSTAMP:20260422T165329
CREATED:20250721T162748Z
LAST-MODIFIED:20250721T162748Z
UID:1695-1762473600-1762732799@talakto.org
SUMMARY:Leave No Trace Course
DESCRIPTION:Leave No Trace Course 2025
URL:https://talakto.org/index.php/event/leave-no-trace-course/
LOCATION:Camp Jackson\, 2867\, Co Rd 24\, Scottsboro\, AL\, 35769\, United States
CATEGORIES:Camping,Training
ORGANIZER;CN="Greater Alabama Council%2C Scouting America":MAILTO:mark.humphrey@scouting.org
END:VEVENT
BEGIN:VEVENT
DTSTART;VALUE=DATE:20251113
DTEND;VALUE=DATE:20251114
DTSTAMP:20260422T165329
CREATED:20250731T185659Z
LAST-MODIFIED:20250731T185659Z
UID:1712-1762992000-1763078399@talakto.org
SUMMARY:November Commissioner Meeting
DESCRIPTION:
URL:https://talakto.org/index.php/event/november-commissioner-meeting/
LOCATION:AL
CATEGORIES:Meeting
ORGANIZER;CN="Talakto District":MAILTO:doug.malone@scouting.org
END:VEVENT
END:VCALENDAR